BEGIN:VCALENDAR
VERSION:2.0
PRODID:icalendar-ruby
CALSCALE:GREGORIAN
METHOD:PUBLISH
BEGIN:VEVENT
DTSTAMP:20260423T122236Z
UID:c234b2fd-44f9-42c5-8e19-f2b7fb8f7756
DTSTART:20260430T180000
DTEND:20260430T190000
CLASS:PUBLIC
CREATED:20260422T115305
DESCRIPTION:Attend an online event hosted by a University of Plymouth exper
 t on micrometeorites
LAST-MODIFIED:20260422T115305
LOCATION:Online via Teams
SUMMARY:Cosmic Dust in the City webinar
URL;VALUE=URI:https://www.plymouth.ac.uk/whats-on/cosmic-dust-in-the-city-p
 ublic-webinar
END:VEVENT
END:VCALENDAR
