BEGIN:VCALENDAR
VERSION:2.0
PRODID:icalendar-ruby
CALSCALE:GREGORIAN
METHOD:PUBLISH
BEGIN:VEVENT
DTSTAMP:20260423T063717Z
UID:deabe6e5-2f86-4395-a3da-732e466a32c6
DTSTART:20260603T160000
DTEND:20260603T170000
CLASS:PUBLIC
CREATED:20260323T145602
DESCRIPTION:Register to join our informal online event
LAST-MODIFIED:20260330T145804
LOCATION:Online via Microsoft Teams
SUMMARY:Can I still apply for 2026 entry?
URL;VALUE=URI:https://www.plymouth.ac.uk/study/undergraduate/apply-for-2026
 -entry
END:VEVENT
END:VCALENDAR
