BEGIN:VCALENDAR
VERSION:2.0
PRODID:icalendar-ruby
CALSCALE:GREGORIAN
METHOD:PUBLISH
BEGIN:VEVENT
DTSTAMP:20260426T034258Z
UID:9456d917-d7f2-4659-a492-66fc8ca538f8
DTSTART:20260409T130000
DTEND:20260409T133000
CLASS:PUBLIC
CREATED:20260316T114454
DESCRIPTION:An online opportunity to explore your options within our busine
 ss management and project management programmes
LAST-MODIFIED:20260316T120920
LOCATION:Online via Zoom
SUMMARY:An introduction to postgraduate study in business and project manag
 ement
URL;VALUE=URI:https://www.plymouth.ac.uk/study/postgraduate/an-introduction
 -to-postgraduate-study-in-business-and-project-management
END:VEVENT
END:VCALENDAR
