BEGIN:VCALENDAR
VERSION:2.0
PRODID:icalendar-ruby
CALSCALE:GREGORIAN
METHOD:PUBLISH
BEGIN:VEVENT
DTSTAMP:20260423T161204Z
UID:6226c295-a280-4619-8690-c1e674f48253
DTSTART:20260521T120000
DTEND:20260521T130000
CLASS:PUBLIC
CREATED:20260423T132851
DESCRIPTION:Hear first‑hand from our international students in this onlin
 e event
LAST-MODIFIED:20260423T133454
LOCATION:Online via Zoom
SUMMARY:What's it like to be an international student at the University of 
 Plymouth?
URL;VALUE=URI:https://www.plymouth.ac.uk/international/whats-it-like-to-be-
 an-international-student-at-the-university-of-plymouth
END:VEVENT
BEGIN:VEVENT
DTSTAMP:20260423T161204Z
UID:e2995d0d-93af-406f-8678-ab86b4658957
DTSTART:20260624T120000
DTEND:20260624T130000
CLASS:PUBLIC
CREATED:20260423T132851
DESCRIPTION:Hear first‑hand from our international students in this onlin
 e event
LAST-MODIFIED:20260423T133454
LOCATION:Online via Zoom
SUMMARY:What's it like to be an international student at the University of 
 Plymouth?
URL;VALUE=URI:https://www.plymouth.ac.uk/international/whats-it-like-to-be-
 an-international-student-at-the-university-of-plymouth
END:VEVENT
END:VCALENDAR
