BEGIN:VCALENDAR
VERSION:2.0
PRODID:icalendar-ruby
CALSCALE:GREGORIAN
METHOD:PUBLISH
BEGIN:VEVENT
DTSTAMP:20260421T194155Z
UID:932d2ff3-ff84-4a30-a8ea-6f4061b366b2
DTSTART:20260325T140000
DTEND:20260325T150000
CLASS:PUBLIC
CREATED:20260306T121001
DESCRIPTION:Online event designed to help you through the postgraduate appl
 ication process
LAST-MODIFIED:20260310T133653
LOCATION:This event will be hosted on Microsoft Teams
SUMMARY:How to make a successful postgraduate application
URL;VALUE=URI:https://www.plymouth.ac.uk/study/postgraduate/how-to-make-a-s
 uccessful-postgraduate-application
END:VEVENT
BEGIN:VEVENT
DTSTAMP:20260421T194155Z
UID:e1288342-e40c-4eba-99b8-e06dd74b7f3a
DTSTART:20260513T110000
DTEND:20260513T120000
CLASS:PUBLIC
CREATED:20260306T133030
DESCRIPTION:Online event designed to help you through the postgraduate appl
 ication process
LAST-MODIFIED:20260306T165515
LOCATION:This event will be hosted on Microsoft Teams
SUMMARY:How to make a successful postgraduate application
URL;VALUE=URI:https://www.plymouth.ac.uk/study/postgraduate/how-to-make-a-s
 uccessful-postgraduate-application
END:VEVENT
END:VCALENDAR
