BEGIN:VCALENDAR
VERSION:2.0
PRODID:icalendar-ruby
CALSCALE:GREGORIAN
METHOD:PUBLISH
BEGIN:VEVENT
DTSTAMP:20260425T191604Z
UID:d9c5c455-c206-4a5d-b180-64d539aec75f
DTSTART:20260423T163000
DTEND:20260423T173000
CLASS:PUBLIC
CREATED:20260409T094748
DESCRIPTION:Hear first‑hand from our undergraduate law students and acade
 mics in this online event
LAST-MODIFIED:20260409T094748
LOCATION:Online
SUMMARY:What's it like to study Law at the University of Plymouth?
URL;VALUE=URI:https://www.plymouth.ac.uk/study/undergraduate/whats-it-like-
 to-study-law-at-the-university-of-plymouth
END:VEVENT
END:VCALENDAR
