BEGIN:VCALENDAR
VERSION:2.0
PRODID:icalendar-ruby
CALSCALE:GREGORIAN
METHOD:PUBLISH
BEGIN:VEVENT
DTSTAMP:20260423T141449Z
UID:7af6aa8a-7979-4189-a15b-284b3f49f250
DTSTART;VALUE=DATE:20260909
DTEND;VALUE=DATE:20260911
CLASS:PUBLIC
CREATED:20260423T074634
DESCRIPTION:Coastal Change and Adaptation Symposium
LAST-MODIFIED:20260423T074634
LOCATION:Sherwell Centre\, University of Plymouth\, United Kingdom\, PL4 8A
 A
SUMMARY:Coastal Change and Adaptation Symposium
URL;VALUE=URI:https://www.plymouth.ac.uk/coastal-change-and-adaptation-symp
 osium
END:VEVENT
END:VCALENDAR
