BEGIN:VCALENDAR
VERSION:2.0
PRODID:icalendar-ruby
CALSCALE:GREGORIAN
METHOD:PUBLISH
BEGIN:VEVENT
DTSTAMP:20260424T092202Z
UID:21871fd7-cdf9-4126-8bb2-5443d7092738
DTSTART:20260707T120000
DTEND:20260709T120000
CLASS:PUBLIC
CREATED:20260218T104713
DESCRIPTION:University of Plymouth 2026
LAST-MODIFIED:20260218T104747
LOCATION:Roland Levinsky Building\, University of Plymouth
SUMMARY:UK Sensorimotor Conference
URL;VALUE=URI:https://www.plymouth.ac.uk/whats-on/uk-sensorimotor-conferenc
 e-2026
END:VEVENT
END:VCALENDAR
