BEGIN:VCALENDAR
VERSION:2.0
PRODID:icalendar-ruby
CALSCALE:GREGORIAN
METHOD:PUBLISH
BEGIN:VEVENT
DTSTAMP:20260421T103147Z
UID:2d7fa063-8c46-4449-b075-5ede8e46cf85
DTSTART:20260530T183000
DTEND:20260530T213000
CLASS:PUBLIC
CREATED:20260303T102023
DESCRIPTION:Community event – all welcome!
LAST-MODIFIED:20260303T102023
LOCATION:Sherwell Church Hall\, North Hill\, Plymouth PL4 8ER
SUMMARY:Monthly International Dinners
URL;VALUE=URI:https://www.plymouth.ac.uk/whats-on/monthly-international-din
 ners
END:VEVENT
BEGIN:VEVENT
DTSTAMP:20260421T103147Z
UID:8faf16d5-d727-44af-96ef-b3da99f9f5fe
DTSTART:20260328T183000
DTEND:20260328T213000
CLASS:PUBLIC
CREATED:20260303T102023
DESCRIPTION:Community event – all welcome!
LAST-MODIFIED:20260303T102046
LOCATION:Sherwell Church Hall\, North Hill\, Plymouth PL4 8ER
SUMMARY:Monthly International Dinners
URL;VALUE=URI:https://www.plymouth.ac.uk/whats-on/monthly-international-din
 ners
END:VEVENT
BEGIN:VEVENT
DTSTAMP:20260421T103147Z
UID:01ba64a1-68fa-40c6-aac5-15b762e5e567
DTSTART:20260425T183000
DTEND:20260425T213000
CLASS:PUBLIC
CREATED:20260303T102023
DESCRIPTION:Community event – all welcome!
LAST-MODIFIED:20260303T102046
LOCATION:Sherwell Church Hall\, North Hill\, Plymouth PL4 8ER
SUMMARY:Monthly International Dinners
URL;VALUE=URI:https://www.plymouth.ac.uk/whats-on/monthly-international-din
 ners
END:VEVENT
END:VCALENDAR
