BEGIN:VCALENDAR
VERSION:2.0
PRODID:icalendar-ruby
CALSCALE:GREGORIAN
METHOD:PUBLISH
BEGIN:VEVENT
DTSTAMP:20260423T161301Z
UID:712c302f-0706-45c1-baee-a6f40575a7d5
DTSTART:20260602T093000
DTEND:20260602T143000
CLASS:PUBLIC
CREATED:20260421T143401
DESCRIPTION:Tuesday 2 June 2026\, 09:30–14:30
LAST-MODIFIED:20260421T144616
LOCATION:On campus
SUMMARY:Faculty of Arts\, Humanities and Business outreach – Create: at P
 lymouth
URL;VALUE=URI:https://www.plymouth.ac.uk/outreach/create-at-plymouth
END:VEVENT
END:VCALENDAR
