BEGIN:VCALENDAR
VERSION:2.0
PRODID:icalendar-ruby
CALSCALE:GREGORIAN
METHOD:PUBLISH
BEGIN:VEVENT
DTSTAMP:20260421T134010Z
UID:7be84304-7d0d-4825-ba15-a8b00da2cbbc
DTSTART:20260327T120000
DTEND:20260327T130000
CLASS:PUBLIC
CREATED:20260129T101430
DESCRIPTION:Commercial Collaboration Information Sessions
LAST-MODIFIED:20260129T101658
LOCATION:Online via Zoom
SUMMARY:Commercial collaboration information sessions
URL;VALUE=URI:https://www.plymouth.ac.uk/whats-on/commercial-collaboration-
 information-sessions
END:VEVENT
BEGIN:VEVENT
DTSTAMP:20260421T134010Z
UID:6464fd80-1d2d-4800-9746-3509b848f51a
DTSTART:20260515T120000
DTEND:20260515T130000
CLASS:PUBLIC
CREATED:20260129T101430
DESCRIPTION:Commercial Collaboration Information Sessions
LAST-MODIFIED:20260129T101658
LOCATION:Online via Zoom
SUMMARY:Commercial collaboration information sessions
URL;VALUE=URI:https://www.plymouth.ac.uk/whats-on/commercial-collaboration-
 information-sessions
END:VEVENT
BEGIN:VEVENT
DTSTAMP:20260421T134010Z
UID:5b9ec66f-e532-42f3-a20f-76ddc8fed2e2
DTSTART:20260429T120000
DTEND:20260429T130000
CLASS:PUBLIC
CREATED:20260129T101430
DESCRIPTION:Commercial Collaboration Information Sessions
LAST-MODIFIED:20260129T101658
LOCATION:Online via Zoom
SUMMARY:Commercial collaboration information sessions
URL;VALUE=URI:https://www.plymouth.ac.uk/whats-on/commercial-collaboration-
 information-sessions
END:VEVENT
END:VCALENDAR
