BEGIN:VCALENDAR
VERSION:2.0
PRODID:icalendar-ruby
CALSCALE:GREGORIAN
METHOD:PUBLISH
BEGIN:VEVENT
DTSTAMP:20260423T030419Z
UID:290e7120-c791-4974-9cf3-76c514708ee3
DTSTART:20260522T120000
DTEND:20260522T130000
CLASS:PUBLIC
CREATED:20260312T130802
DESCRIPTION:Find out more about our postgraduate opportunities within the S
 chool
LAST-MODIFIED:20260312T130802
LOCATION:Online
SUMMARY:School of Engineering\, Computing and Mathematics’ Postgraduate O
 pportunities Session
URL;VALUE=URI:https://www.plymouth.ac.uk/whats-on/secam-postgraduate-opport
 unities-virtual-drop-in-session
END:VEVENT
END:VCALENDAR
