BEGIN:VCALENDAR
VERSION:2.0
PRODID:icalendar-ruby
CALSCALE:GREGORIAN
METHOD:PUBLISH
BEGIN:VEVENT
DTSTAMP:20260420T173632Z
UID:4f341954-2aa9-4035-8e56-3a7cb38727aa
DTSTART;VALUE=DATE:20251103
DTEND;VALUE=DATE:20260616
CLASS:PUBLIC
CREATED:20260318T145727
DESCRIPTION:The School of Nursing and Midwifery invite you to join us to co
 ntinue to develop your roles as Practice Assessors at one of our workshops
 . 
LAST-MODIFIED:20260318T145859
LOCATION:Online\, Microsoft Teams
SUMMARY:CPD workshops for Practice Assessors 
URL;VALUE=URI:https://www.plymouth.ac.uk/student-life/your-studies/academic
 -services/poppi/mentor-centre/cpd-workshops-for-practice-assessors
END:VEVENT
END:VCALENDAR
