BEGIN:VCALENDAR
VERSION:2.0
PRODID:icalendar-ruby
CALSCALE:GREGORIAN
METHOD:PUBLISH
BEGIN:VEVENT
DTSTAMP:20260422T155910Z
UID:87e1bc96-baab-422e-af82-cb8494621f7b
DTSTART:20260312T160000
DTEND:20260312T190000
CLASS:PUBLIC
CREATED:20260109T111825
DESCRIPTION:Looking to study nursing in Cornwall? 
LAST-MODIFIED:20260109T112015
LOCATION:The Knowledge Spa\, Truro\, Cornwall\, TR1 3HD
SUMMARY:Truro School of Nursing – Nursing Open Evening
URL;VALUE=URI:https://www.plymouth.ac.uk/whats-on/truro-school-of-nursing-o
 pen-evening
END:VEVENT
END:VCALENDAR
