BEGIN:VCALENDAR
VERSION:2.0
PRODID:icalendar-ruby
CALSCALE:GREGORIAN
METHOD:PUBLISH
BEGIN:VEVENT
DTSTAMP:20260419T223517Z
UID:399a638d-4b25-434b-9633-61df04b2f319
DTSTART:20261104T160000
DTEND:20261104T190000
CLASS:PUBLIC
CREATED:20260331T161423
DESCRIPTION:Your opportunity to discuss postgraduate study\, research\, mas
 ters programmes and professional development at the University of Plymouth
LAST-MODIFIED:20260331T161423
LOCATION:University of Plymouth
SUMMARY:Postgraduate on-campus open evening
URL;VALUE=URI:https://www.plymouth.ac.uk/study/open-days/postgraduate-open-
 evening
END:VEVENT
BEGIN:VEVENT
DTSTAMP:20260419T223517Z
UID:2b95d882-c454-4512-99e5-47f11524c5ef
DTSTART:20270310T160000
DTEND:20270310T190000
CLASS:PUBLIC
CREATED:20260331T161423
DESCRIPTION:Your opportunity to discuss postgraduate study\, research\, mas
 ters programmes and professional development at the University of Plymouth
LAST-MODIFIED:20260331T161423
LOCATION:University of Plymouth
SUMMARY:Postgraduate on-campus open evening
URL;VALUE=URI:https://www.plymouth.ac.uk/study/open-days/postgraduate-open-
 evening
END:VEVENT
END:VCALENDAR
